BEGIN:VCALENDAR
VERSION:2.0
PRODID:icalendar-ruby
CALSCALE:GREGORIAN
METHOD:PUBLISH
BEGIN:VEVENT
DTSTAMP:20260422T193811Z
UID:5-930956@elimtabernacle.church
DTSTART:20261004T160000Z
DTEND:20261004T170000Z
CLASS:PUBLIC
CREATED:20260422T122935
DESCRIPTION:Sunday Worship
LAST-MODIFIED:20260422T122935
LOCATION:
SUMMARY:Sunday Worship
URL;VALUE=URI:https://elimtabernacle.church/events/sunday-worship/2026-10-0
 4
END:VEVENT
END:VCALENDAR
