BEGIN:VCALENDAR
VERSION:2.0
PRODID:icalendar-ruby
CALSCALE:GREGORIAN
METHOD:PUBLISH
BEGIN:VEVENT
DTSTAMP:20260422T211228Z
UID:5-931336@elimtabernacle.church
DTSTART:20261011T160000Z
DTEND:20261011T170000Z
CLASS:PUBLIC
CREATED:20260422T152431
DESCRIPTION:Sunday Worship
LAST-MODIFIED:20260422T152431
LOCATION:
SUMMARY:Sunday Worship
URL;VALUE=URI:https://elimtabernacle.church/events/sunday-worship/2026-10-1
 1
END:VEVENT
END:VCALENDAR
