BEGIN:VCALENDAR
VERSION:2.0
PRODID:icalendar-ruby
CALSCALE:GREGORIAN
METHOD:PUBLISH
BEGIN:VEVENT
DTSTAMP:20260423T000813Z
UID:5-931717@elimtabernacle.church
DTSTART:20261025T160000Z
DTEND:20261025T170000Z
CLASS:PUBLIC
CREATED:20260422T181711
DESCRIPTION:Sunday Worship
LAST-MODIFIED:20260422T181711
LOCATION:
SUMMARY:Sunday Worship
URL;VALUE=URI:https://elimtabernacle.church/events/sunday-worship/2026-10-2
 5
END:VEVENT
END:VCALENDAR
