BEGIN:VCALENDAR
VERSION:2.0
PRODID:icalendar-ruby
CALSCALE:GREGORIAN
METHOD:PUBLISH
BEGIN:VEVENT
DTSTAMP:20260423T013121Z
UID:5-931718@elimtabernacle.church
DTSTART:20261101T170000Z
DTEND:20261101T180000Z
CLASS:PUBLIC
CREATED:20260422T181711
DESCRIPTION:Sunday Worship
LAST-MODIFIED:20260422T181711
LOCATION:
SUMMARY:Sunday Worship
URL;VALUE=URI:https://elimtabernacle.church/events/sunday-worship/2026-11-0
 1
END:VEVENT
END:VCALENDAR
